BEGIN:VCALENDAR
VERSION:2.0
PRODID:-//OmniMagnetCalendar//EN
BEGIN:VEVENT
DTSTAMP:20190625T195740Z
STATUS:CONFIRMED
UID:greaternaples.illiniclub.org186
DTSTART:20240209T170000Z
DTEND:20240209T183000Z
LOCATION:Giovanni's, 5975 Pine Ridge Rd, Naples, FL, 34119,
SUMMARY:Lunch Bunch Returns - February 2024!
DESCRIPTION:
BEGIN:VALARM
TRIGGER:-PT15M
ACTION:DISPLAY
END:VALARM
TRANSP:OPAQUE
END:VEVENT
END:VCALENDAR
