BEGIN:VCALENDAR
VERSION:2.0
PRODID:-//OmniMagnetCalendar//EN
BEGIN:VEVENT
DTSTAMP:20190625T195740Z
STATUS:CONFIRMED
UID:greaternaples.illiniclub.org184
DTSTART:20231209T170000Z
DTEND:20231209T200000Z
LOCATION:Baypointe at Naples Cay - Social Room, 60 Seagate Dr, Naples, FL, 34103,
SUMMARY:Illinois vs Tennesses  Men's Basketball Gamewatch
DESCRIPTION:
BEGIN:VALARM
TRIGGER:-PT15M
ACTION:DISPLAY
END:VALARM
TRANSP:OPAQUE
END:VEVENT
END:VCALENDAR
