BEGIN:VCALENDAR
VERSION:2.0
PRODID:-//OmniMagnetCalendar//EN
BEGIN:VEVENT
DTSTAMP:20190625T195740Z
STATUS:CONFIRMED
UID:greaternaples.illiniclub.org180
DTSTART:20230203T170000Z
DTEND:20230203T183000Z
LOCATION:Stonebridge Country Club , 2100 Winding Oaks Way, Naples, FL, 34109,
SUMMARY:Lunch Bunch Returns on February 3
DESCRIPTION:Join your Naples-area Illini Alumni!
BEGIN:VALARM
TRIGGER:-PT15M
ACTION:DISPLAY
END:VALARM
TRANSP:OPAQUE
END:VEVENT
END:VCALENDAR
